BEGIN:VCALENDAR
VERSION:2.0
PRODID:icalendar-ruby
CALSCALE:GREGORIAN
METHOD:PUBLISH
BEGIN:VEVENT
DTSTAMP:20260423T153702Z
UID:5-1179289@newbeginningsac.com
DTSTART:20260913T150000Z
DTEND:20260913T160000Z
CLASS:PUBLIC
CREATED:20260423T095253
DESCRIPTION:Sunday Service
LAST-MODIFIED:20260423T095253
LOCATION:The Apostolic Church 
SUMMARY:Sunday Service
URL;VALUE=URI:https://www.newbeginningsac.com/events/sunday-service--5/2026
 -09-13
END:VEVENT
END:VCALENDAR
