BEGIN:VCALENDAR
VERSION:2.0
PRODID:icalendar-ruby
CALSCALE:GREGORIAN
METHOD:PUBLISH
BEGIN:VEVENT
DTSTAMP:20260423T223200Z
UID:5-1180603@newbeginningsac.com
DTSTART:20261011T150000Z
DTEND:20261011T160000Z
CLASS:PUBLIC
CREATED:20260423T154310
DESCRIPTION:Sunday Service
LAST-MODIFIED:20260423T154310
LOCATION:The Apostolic Church 
SUMMARY:Sunday Service
URL;VALUE=URI:https://www.newbeginningsac.com/events/sunday-service--5/2026
 -10-11
END:VEVENT
END:VCALENDAR
