BEGIN:VCALENDAR
VERSION:2.0
PRODID:icalendar-ruby
CALSCALE:GREGORIAN
METHOD:PUBLISH
BEGIN:VEVENT
DTSTAMP:20260424T001907Z
UID:5-1181259@newbeginningsac.com
DTSTART:20261018T150000Z
DTEND:20261018T160000Z
CLASS:PUBLIC
CREATED:20260423T183725
DESCRIPTION:Sunday Service
LAST-MODIFIED:20260423T183725
LOCATION:The Apostolic Church 
SUMMARY:Sunday Service
URL;VALUE=URI:https://www.newbeginningsac.com/events/sunday-service--5/2026
 -10-18
END:VEVENT
END:VCALENDAR
