BEGIN:VCALENDAR
VERSION:2.0
PRODID:icalendar-ruby
CALSCALE:GREGORIAN
METHOD:PUBLISH
BEGIN:VEVENT
DTSTAMP:20260424T015554Z
UID:5-1181915@newbeginningsac.com
DTSTART:20261025T150000Z
DTEND:20261025T160000Z
CLASS:PUBLIC
CREATED:20260423T213038
DESCRIPTION:Sunday Service
LAST-MODIFIED:20260423T213038
LOCATION:The Apostolic Church 
SUMMARY:Sunday Service
URL;VALUE=URI:https://www.newbeginningsac.com/events/sunday-service--5/2026
 -10-25
END:VEVENT
END:VCALENDAR
