BEGIN:VCALENDAR
VERSION:2.0
PRODID:icalendar-ruby
CALSCALE:GREGORIAN
METHOD:PUBLISH
BEGIN:VEVENT
DTSTAMP:20260424T033440Z
UID:5-1181916@newbeginningsac.com
DTSTART:20261101T160000Z
DTEND:20261101T170000Z
CLASS:PUBLIC
CREATED:20260423T213038
DESCRIPTION:Sunday Service
LAST-MODIFIED:20260423T213038
LOCATION:The Apostolic Church 
SUMMARY:Sunday Service
URL;VALUE=URI:https://www.newbeginningsac.com/events/sunday-service--5/2026
 -11-01
END:VEVENT
END:VCALENDAR
